BEGIN:VCALENDAR
PRODID:-//eluceo/ical//2.0/EN
VERSION:2.0
CALSCALE:GREGORIAN
BEGIN:VEVENT
UID:9d21ddc94d4754c546bebcb857f88216
DTSTAMP:20260423T093811Z
SUMMARY:RCBI Live & Online Meeting - General Assembly
DESCRIPTION:
URL:https://rcbaselinternational.ch/sv/agenda/show/115719
DTSTART;TZID=Europe/Zurich:20200825T190000
DTEND;TZID=Europe/Zurich:20200825T203000
LOCATION:Heubergkeller & Online
CATEGORIES:Rotary
END:VEVENT
BEGIN:VTIMEZONE
TZID:Europe/Zurich
BEGIN:DAYLIGHT
DTSTART:20200825T190000
TZNAME:CEST
TZOFFSETTO:+0200
TZOFFSETFROM:+0200
END:DAYLIGHT
END:VTIMEZONE
END:VCALENDAR
