BEGIN:VCALENDAR
PRODID:-//eluceo/ical//2.0/EN
VERSION:2.0
CALSCALE:GREGORIAN
BEGIN:VEVENT
UID:0a30533e721a01ae7ff39e98533cd7f0
DTSTAMP:20260423T133345Z
SUMMARY:Guided Tour  Taxizentrale 33 
DESCRIPTION:Meeting Point 7pm \n\nBüro Kestenhol - Leimgrubenweg 16 \n\n
 Besichtigung der Telefonzentral and Apero
URL:https://rcbaselinternational.ch/sv/agenda/show/108492
DTSTART;TZID=Europe/Zurich:20200211T190000
DTEND;TZID=Europe/Zurich:20200211T203000
LOCATION:Extern
CATEGORIES:Rotary
END:VEVENT
BEGIN:VTIMEZONE
TZID:Europe/Zurich
BEGIN:STANDARD
DTSTART:20200211T190000
TZNAME:CET
TZOFFSETTO:+0100
TZOFFSETFROM:+0100
END:STANDARD
END:VTIMEZONE
END:VCALENDAR
