BEGIN:VCALENDAR
PRODID:-//eluceo/ical//2.0/EN
VERSION:2.0
CALSCALE:GREGORIAN
BEGIN:VEVENT
UID:116494f3f04c060ed44d9c9e97a7a3e3
DTSTAMP:20260422T093450Z
SUMMARY:Hardwasser\, Wasser-Aufbereitung + Reinigung\, Waldspaziergang (Ach
 tung\, beginnt schon um 18 Uhr! Treffpunkt Muttenz Waldhaus)
DESCRIPTION:Sito web: https://goo.gl/maps/ap88nEwYSdfwkhgc6\nRelatore/i: 
URL:https://rcbaselinternational.ch/it/agenda/show/139128
DTSTART;TZID=Europe/Zurich:20220614T180000
DTEND;TZID=Europe/Zurich:20220614T203000
LOCATION:Muttenz\, Waldhaus (Bus 80/81)
CATEGORIES:Rotary
END:VEVENT
BEGIN:VTIMEZONE
TZID:Europe/Zurich
BEGIN:DAYLIGHT
DTSTART:20220614T180000
TZNAME:CEST
TZOFFSETTO:+0200
TZOFFSETFROM:+0200
END:DAYLIGHT
END:VTIMEZONE
END:VCALENDAR
