BEGIN:VCALENDAR
PRODID:-//eluceo/ical//2.0/EN
VERSION:2.0
CALSCALE:GREGORIAN
BEGIN:VEVENT
UID:2fc02aa027768b650c5ca2d848f3eca1
DTSTAMP:20260422T061254Z
SUMMARY:Before and Beyond the Big Bang - Speculations and Questions Unanswe
 red in the recent Presentation 'Archäologie im Weltall'  by Prof. K. Altw
 egg\, moderated by Joachim von Heimburg
DESCRIPTION:Sito web: https://zoom.us/j/8398207830\nRelatore/i: Zoom-Meetin
 g beitretenhttps://zoom.us/j/8398207830\n\nMeeting-ID: 839 820 7830\nSchne
 lleinwahl mobil\n+41225910005\,\,8398207830# Schweiz\n+41225910156\,\,8398
 207830# Schweiz\n\nEinwahl nach aktuellem Standort\n        +41 22 591 00 
 05 Schweiz\n        +41 22 591 01 56 Schweiz\n        +41 31 528 09 88 Sch
 weiz+41 43 210 70 42 Schweiz\n        +41 43 210 71 08 Schweiz\n        +4
 1 44 529 92 72 Schweiz\n        +49 69 3807 9883 Deutschland\n        +49 
 69 3807 9884 Deutschland\n        +49 69 5050 0951 Deutschland\n        +4
 9 69 5050 0952 Deutschland\n        +49 695 050 2596 Deutschland\n        
 +49 69 7104 9922 Deutschland\n        +33 1 7037 2246 Frankreich\n        
 +33 1 7037 9729 Frankreich\n        +33 1 7095 0103 Frankreich\n        +3
 3 1 7095 0350 Frankreich\n        +33 1 8699 5831 Frankreich\nOrtseinwahl 
 suchen: https://zoom.us/u/aez7xoNsN4
URL:https://rcbaselinternational.ch/it/agenda/show/139127
DTSTART;TZID=Europe/Zurich:20220607T190000
DTEND;TZID=Europe/Zurich:20220607T200000
LOCATION:Online
CATEGORIES:Rotary
END:VEVENT
BEGIN:VTIMEZONE
TZID:Europe/Zurich
BEGIN:DAYLIGHT
DTSTART:20220607T190000
TZNAME:CEST
TZOFFSETTO:+0200
TZOFFSETFROM:+0200
END:DAYLIGHT
END:VTIMEZONE
END:VCALENDAR
