BEGIN:VCALENDAR
PRODID:-//eluceo/ical//2.0/EN
VERSION:2.0
CALSCALE:GREGORIAN
BEGIN:VEVENT
UID:656eb0b6bb142a198a5cb8d7dd3dd005
DTSTAMP:20260420T063826Z
SUMMARY:Benefiz-Konzert zugunsten mine-ex
DESCRIPTION:Vefsíða: https://music4mine-ex.ch/swiss-army-brass-band-pratt
 eln-de/
URL:https://rcbaselinternational.ch/is/agenda/show/147889
DTSTART;TZID=Europe/Zurich:20220923T180000
DTEND;TZID=Europe/Zurich:20220923T214500
LOCATION:KUSPO Pratteln\, Obermattstrasse 13\, Pratteln
CATEGORIES:Rotary
END:VEVENT
BEGIN:VTIMEZONE
TZID:Europe/Zurich
BEGIN:DAYLIGHT
DTSTART:20220923T180000
TZNAME:CEST
TZOFFSETTO:+0200
TZOFFSETFROM:+0200
END:DAYLIGHT
END:VTIMEZONE
END:VCALENDAR
