BEGIN:VCALENDAR
PRODID:-//eluceo/ical//2.0/EN
VERSION:2.0
CALSCALE:GREGORIAN
BEGIN:VEVENT
UID:a214738668d8c4cd3058b0ede16f6864
DTSTAMP:20260425T104552Z
SUMMARY:Plauder-Swimming
DESCRIPTION:
URL:https://rcbaselinternational.ch/is/agenda/show/146329
DTSTART;TZID=Europe/Zurich:20220802T190000
DTEND;TZID=Europe/Zurich:20220803T213000
LOCATION:Kaserne\, Rheinbord
CATEGORIES:Rotary
END:VEVENT
BEGIN:VTIMEZONE
TZID:Europe/Zurich
BEGIN:DAYLIGHT
DTSTART:20220802T190000
TZNAME:CEST
TZOFFSETTO:+0200
TZOFFSETFROM:+0200
END:DAYLIGHT
END:VTIMEZONE
END:VCALENDAR
