BEGIN:VCALENDAR
PRODID:-//eluceo/ical//2.0/EN
VERSION:2.0
CALSCALE:GREGORIAN
BEGIN:VEVENT
UID:636cd562e377b84c187596ae79551c02
DTSTAMP:20260423T212446Z
SUMMARY:Fundraising Pub-Quiz
DESCRIPTION:Site internet: https://didioffensiv.ch/en/
URL:https://rcbaselinternational.ch/fr/agenda/show/153604
DTSTART;TZID=Europe/Zurich:20230121T180000
DTEND;TZID=Europe/Zurich:20230121T220000
LOCATION:Didi offensiv\, Erasmusplatz 12\, Basel
CATEGORIES:Rotary
END:VEVENT
BEGIN:VTIMEZONE
TZID:Europe/Zurich
BEGIN:STANDARD
DTSTART:20230121T180000
TZNAME:CET
TZOFFSETTO:+0100
TZOFFSETFROM:+0100
END:STANDARD
END:VTIMEZONE
END:VCALENDAR
