BEGIN:VCALENDAR
PRODID:-//eluceo/ical//2.0/EN
VERSION:2.0
CALSCALE:GREGORIAN
BEGIN:VEVENT
UID:eff23c1489a1dab65f59d77811d34a37
DTSTAMP:20260423T065258Z
SUMMARY:Celebration of our Chad project
DESCRIPTION:Site internet: https://zoom.us/j/8398207830
URL:https://rcbaselinternational.ch/fr/agenda/show/146346
DTSTART;TZID=Europe/Zurich:20220830T190000
DTEND;TZID=Europe/Zurich:20220830T200000
LOCATION:Heubergkeller\, Heuberg 26\, 4051 Basel\, Switzerland
CATEGORIES:Rotary
END:VEVENT
BEGIN:VTIMEZONE
TZID:Europe/Zurich
BEGIN:DAYLIGHT
DTSTART:20220830T190000
TZNAME:CEST
TZOFFSETTO:+0200
TZOFFSETFROM:+0200
END:DAYLIGHT
END:VTIMEZONE
END:VCALENDAR
