BEGIN:VCALENDAR
PRODID:-//eluceo/ical//2.0/EN
VERSION:2.0
CALSCALE:GREGORIAN
BEGIN:VEVENT
UID:240a1e2ccef8ffdc4b855723b45d1b6e
DTSTAMP:20260422T110030Z
SUMMARY:Summer-Apero with Rotaract
DESCRIPTION:
URL:https://rcbaselinternational.ch/fr/agenda/show/146336
DTSTART;TZID=Europe/Zurich:20220809T190000
DTEND;TZID=Europe/Zurich:20220809T203000
LOCATION:Gemsberg-Brunnen\, next to Heuberg-Keller
CATEGORIES:Rotary
END:VEVENT
BEGIN:VTIMEZONE
TZID:Europe/Zurich
BEGIN:DAYLIGHT
DTSTART:20220809T190000
TZNAME:CEST
TZOFFSETTO:+0200
TZOFFSETFROM:+0200
END:DAYLIGHT
END:VTIMEZONE
END:VCALENDAR
