BEGIN:VCALENDAR
PRODID:-//eluceo/ical//2.0/EN
VERSION:2.0
CALSCALE:GREGORIAN
BEGIN:VEVENT
UID:499908ce4acb1c57f128d676480bb439
DTSTAMP:20260423T082055Z
SUMMARY:Abgesagt: Plauder-Swimming
DESCRIPTION:
URL:https://rcbaselinternational.ch/fr/agenda/show/146311
DTSTART;TZID=Europe/Zurich:20220712T190000
DTEND;TZID=Europe/Zurich:20220712T213000
LOCATION:Kaserne\, Rheinbord
CATEGORIES:Rotary
END:VEVENT
BEGIN:VTIMEZONE
TZID:Europe/Zurich
BEGIN:DAYLIGHT
DTSTART:20220712T190000
TZNAME:CEST
TZOFFSETTO:+0200
TZOFFSETFROM:+0200
END:DAYLIGHT
END:VTIMEZONE
END:VCALENDAR
