BEGIN:VCALENDAR
PRODID:-//eluceo/ical//2.0/EN
VERSION:2.0
CALSCALE:GREGORIAN
BEGIN:VEVENT
UID:7d1ff6024a1733bb10b9b45d70516a88
DTSTAMP:20260425T112719Z
SUMMARY:Marché gourmande Hunawihr Elsass - Partner Event mit Kids (Zeit wi
 rd noch bekannt gegeben\, Registrierung via Joachim)
DESCRIPTION:Conférencier(s): Registrierung via Joachim
URL:https://rcbaselinternational.ch/fr/agenda/show/139124
DTSTART;TZID=Europe/Zurich:20220522T103000
DTEND;TZID=Europe/Zurich:20220522T160000
LOCATION:Hunawihr
CATEGORIES:Rotary
END:VEVENT
BEGIN:VTIMEZONE
TZID:Europe/Zurich
BEGIN:DAYLIGHT
DTSTART:20220522T103000
TZNAME:CEST
TZOFFSETTO:+0200
TZOFFSETFROM:+0200
END:DAYLIGHT
END:VTIMEZONE
END:VCALENDAR
