BEGIN:VCALENDAR
PRODID:-//eluceo/ical//2.0/EN
VERSION:2.0
CALSCALE:GREGORIAN
BEGIN:VEVENT
UID:5d112f3a82482b6154e4d2863c00f4fa
DTSTAMP:20260423T102507Z
SUMMARY:A new vision of waste!  - François van den Abeele CEO and Founder 
 of Sea2See
DESCRIPTION:Site internet: https://www.gotomeet.me/RC-Basel-International\n
 Conférencier(s): \n\n\n\n\n\n\n\n\n\n\n\nhttps://www.gotomeet.me/RC-Basel
 -International Please join my meeting from your computer\, tablet or\nsmar
 tphone.\n\n \n\nhttps://www.gotomeet.me/RC-Basel-International\n\n \n\nY
 ou can\nalso dial in using your phone.\n\n(For\nsupported devices\, tap a 
 one-touch number below to join instantly.)\n\n \n\nSwitzerland:\n+41 225 
 4599 78\n\n- One-touch: tel:+41225459978\,\,663204245#\n\n \n\nAccess\nCo
 de: 663-204-245\n\n \n\n \n\nNew to GoToMeeting? Get the app now and be 
 ready when your\nfirst meeting starts: https://global.gotomeeting.com/inst
 all/663204245
URL:https://rcbaselinternational.ch/fr/agenda/show/138141
DTSTART;TZID=Europe/Zurich:20220215T190000
DTEND;TZID=Europe/Zurich:20220215T200000
LOCATION:Online
CATEGORIES:Rotary
END:VEVENT
BEGIN:VTIMEZONE
TZID:Europe/Zurich
BEGIN:STANDARD
DTSTART:20220215T190000
TZNAME:CET
TZOFFSETTO:+0100
TZOFFSETFROM:+0100
END:STANDARD
END:VTIMEZONE
END:VCALENDAR
