BEGIN:VCALENDAR
PRODID:-//eluceo/ical//2.0/EN
VERSION:2.0
CALSCALE:GREGORIAN
BEGIN:VEVENT
UID:49de4cd89fdb4400b1a5e682d33163f4
DTSTAMP:20260423T102331Z
SUMMARY:Bitcoin\;  die Zusammenhänge  um Bitcoin / Blockchain  und den dam
 it  verbundenen  Anwendunge\; presented by Alex Schaefer
DESCRIPTION:Site internet: https://www.gotomeet.me/RC-Basel-International\n
 Conférencier(s): \nhttps://www.gotomeet.me/RC-Basel-International\n\n \n
 \nYou can\nalso dial in using your phone.\n\n(For\nsupported devices\, tap
  a one-touch number below to join instantly.)\n\n \n\nSwitzerland:\n+41 2
 25 4599 78\n\n- One-touch: tel:+41225459978\,\,663204245#\n\n \n\nAccess\
 nCode: 663-204-245\n\n \n\n \n\nNew to GoToMeeting? Get the app now and 
 be ready when your\nfirst meeting starts: https://global.gotomeeting.com/i
 nstall/663204245\n        \n    \n            \n                    \n    
             \n    \n        Please join my meeting from your computer\, ta
 blet or smartphone.https://www.gotomeet.me/RC-Basel-InternationalYou can a
 lso dial in using your phone.(For supported devices\, tap a one-touch numb
 er below to join instantly.)Switzerland: +41 225 4599 78- One-touch: tel:+
 41225459978\,\,663204245#Access Code: 663-204-245New\n to GoToMeeting? Get
  the app now and be ready when your first meeting \nstarts: https://global
 .gotomeeting.com/install/663204245
URL:https://rcbaselinternational.ch/fr/agenda/show/137544
DTSTART;TZID=Europe/Zurich:20220201T190000
DTEND;TZID=Europe/Zurich:20220201T203000
LOCATION:Online
CATEGORIES:Rotary
END:VEVENT
BEGIN:VTIMEZONE
TZID:Europe/Zurich
BEGIN:STANDARD
DTSTART:20220201T190000
TZNAME:CET
TZOFFSETTO:+0100
TZOFFSETFROM:+0100
END:STANDARD
END:VTIMEZONE
END:VCALENDAR
