BEGIN:VCALENDAR
PRODID:-//eluceo/ical//2.0/EN
VERSION:2.0
CALSCALE:GREGORIAN
BEGIN:VEVENT
UID:c674c95b931d1b5ede9649896ba833dc
DTSTAMP:20260420T132335Z
SUMMARY:Power of WE sesssion
DESCRIPTION:Sitio web: https://zoom.us/j/8398207830
URL:https://rcbaselinternational.ch/es/agenda/show/146326
DTSTART;TZID=Europe/Zurich:20220726T190000
DTEND;TZID=Europe/Zurich:20220726T200000
LOCATION:Heubergkeller and Online\, Heuberg 26\, 4051 Basel
CATEGORIES:Rotary
END:VEVENT
BEGIN:VTIMEZONE
TZID:Europe/Zurich
BEGIN:DAYLIGHT
DTSTART:20220726T190000
TZNAME:CEST
TZOFFSETTO:+0200
TZOFFSETFROM:+0200
END:DAYLIGHT
END:VTIMEZONE
END:VCALENDAR
