BEGIN:VCALENDAR
PRODID:-//eluceo/ical//2.0/EN
VERSION:2.0
CALSCALE:GREGORIAN
BEGIN:VEVENT
UID:80fe90e9daf29a8d883f84a5cc4985c7
DTSTAMP:20260423T095751Z
SUMMARY:Roche Turmgespräche: Preis Profit Patient & Discussion at Warteck 
 Brauerei
DESCRIPTION:The online meeting planned on Jun 4 has been replaced by the "R
 oche Turmgespräche: Preis Profit Patient " from 6:30 - 8:30pm and a discu
 ssion afterwards at the Warteck Brauerei as of 9pm\n\n \n\nIMPORTANT:\n\n
 Registration for the Trumgespräche\n\nIf you want to register to the Turm
 gespräche discussion (only in German)\, you need to subscribe using the f
 ollowing link by Thursday\, May 30th\n\n \n\nhttps://www.roche.ch/standor
 te/basel-hq/services/tower-talks.htm  \n\n \n\nRegistration for Warteck
  Brauerei as of 8:30/9pm\n\nFor the one of you who want to join for a drin
 k at Warteck and have some discussion around the topic\, please register b
 elow by Sunday\, 2 June\, so we can reserve a table for us.
URL:https://rcbaselinternational.ch/bs/agenda/show/99808
DTSTART;TZID=Europe/Zurich:20190604T183000
DTEND;TZID=Europe/Zurich:20190604T223000
LOCATION:Roche\, Grenzacherstrasse 124\, 4070 Basel & Warteck Brauerei\, Gr
 enzacherstrasse 60\, 4058 Basel
CATEGORIES:Rotary
END:VEVENT
BEGIN:VTIMEZONE
TZID:Europe/Zurich
BEGIN:DAYLIGHT
DTSTART:20190604T183000
TZNAME:CEST
TZOFFSETTO:+0200
TZOFFSETFROM:+0200
END:DAYLIGHT
END:VTIMEZONE
END:VCALENDAR
