BEGIN:VCALENDAR
PRODID:-//eluceo/ical//2.0/EN
VERSION:2.0
CALSCALE:GREGORIAN
BEGIN:VEVENT
UID:e4eb8c65ed5beaffda6a24fa62423992
DTSTAMP:20260423T042555Z
SUMMARY:Mare nostrum - End plastic spoup: Albi Wuhrmann\; RC Rheinfelden-Fr
 icktal: Gründungsmitglied Verein mare nostrum
DESCRIPTION:Web stranica: https://zoom.us/j/8398207830\nGovornik(ci): Zoom-
 Meeting beitretenhttps://zoom.us/j/8398207830\n\nMeeting-ID: 839 820 7830\
 nSchnelleinwahl mobil\n+41225910005\,\,8398207830# Schweiz\n+41225910156\,
 \,8398207830# Schweiz\n\nEinwahl nach aktuellem Standort\n        +41 22 5
 91 00 05 Schweiz\n        +41 22 591 01 56 Schweiz\n        +41 31 528 09 
 88 Schweiz+41 43 210 70 42 Schweiz\n        +41 43 210 71 08 Schweiz\n    
     +41 44 529 92 72 Schweiz\n        +49 69 3807 9883 Deutschland\n      
   +49 69 3807 9884 Deutschland\n        +49 69 5050 0951 Deutschland\n    
     +49 69 5050 0952 Deutschland\n        +49 695 050 2596 Deutschland\n  
       +49 69 7104 9922 Deutschland\n        +33 1 7037 2246 Frankreich\n  
       +33 1 7037 9729 Frankreich\n        +33 1 7095 0103 Frankreich\n    
     +33 1 7095 0350 Frankreich\n        +33 1 8699 5831 Frankreich\nOrtsei
 nwahl suchen: https://zoom.us/u/aez7xoNsN4
URL:https://rcbaselinternational.ch/bs/agenda/show/141994
DTSTART;TZID=Europe/Zurich:20220628T190000
DTEND;TZID=Europe/Zurich:20220628T203000
LOCATION:Virtual Meeting & Heubergkeller\, Heuberg 26\, 4051 Basel\, Switze
 rland
CATEGORIES:Rotary
END:VEVENT
BEGIN:VTIMEZONE
TZID:Europe/Zurich
BEGIN:DAYLIGHT
DTSTART:20220628T190000
TZNAME:CEST
TZOFFSETTO:+0200
TZOFFSETFROM:+0200
END:DAYLIGHT
END:VTIMEZONE
END:VCALENDAR
