BEGIN:VCALENDAR
PRODID:-//eluceo/ical//2.0/EN
VERSION:2.0
CALSCALE:GREGORIAN
BEGIN:VEVENT
UID:a7696adc1d703d7c6f796275cca35c1b
DTSTAMP:20260423T104823Z
SUMMARY:RCBI Live and Online Meeting - Heubergkeller
DESCRIPTION:Presentation by Marie-Claire Graf\, Swiss youth advocate for su
 stainable development and climate\nMeni: RC Basel International's Meeting\
 n\nPlease join my meeting from your computer\, tablet or smartphone.\nhttp
 s://www.gotomeet.me/RC-Basel-International\n\nYou can also dial in using y
 our phone.\nSwitzerland: +41 225 4599 78\n\nAccess Code: 663-204-245\n\nNe
 w to GoToMeeting? Get the app now and be ready when your first meeting sta
 rts:\nhttps://global.gotomeeting.com/install/663204245
URL:https://rcbaselinternational.ch/bs/agenda/show/111641
DTSTART;TZID=Europe/Zurich:20200616T190000
DTEND;TZID=Europe/Zurich:20200616T203000
LOCATION:Heubergkeller and Online
CATEGORIES:Rotary
END:VEVENT
BEGIN:VTIMEZONE
TZID:Europe/Zurich
BEGIN:DAYLIGHT
DTSTART:20200616T190000
TZNAME:CEST
TZOFFSETTO:+0200
TZOFFSETFROM:+0200
END:DAYLIGHT
END:VTIMEZONE
END:VCALENDAR
